BEGIN:VCALENDAR
VERSION:2.0
PRODID:-//Electric Cowboy Lewisville - ECPv6.15.14//NONSGML v1.0//EN
CALSCALE:GREGORIAN
METHOD:PUBLISH
X-WR-CALNAME:Electric Cowboy Lewisville
X-ORIGINAL-URL:https://www.electriccowboy.com/lewisville
X-WR-CALDESC:Events for Electric Cowboy Lewisville
REFRESH-INTERVAL;VALUE=DURATION:PT1H
X-Robots-Tag:noindex
X-PUBLISHED-TTL:PT1H
BEGIN:VTIMEZONE
TZID:America/Chicago
BEGIN:DAYLIGHT
TZOFFSETFROM:-0600
TZOFFSETTO:-0500
TZNAME:CDT
DTSTART:20250309T080000
END:DAYLIGHT
BEGIN:STANDARD
TZOFFSETFROM:-0500
TZOFFSETTO:-0600
TZNAME:CST
DTSTART:20251102T070000
END:STANDARD
BEGIN:DAYLIGHT
TZOFFSETFROM:-0600
TZOFFSETTO:-0500
TZNAME:CDT
DTSTART:20260308T080000
END:DAYLIGHT
BEGIN:STANDARD
TZOFFSETFROM:-0500
TZOFFSETTO:-0600
TZNAME:CST
DTSTART:20261101T070000
END:STANDARD
BEGIN:DAYLIGHT
TZOFFSETFROM:-0600
TZOFFSETTO:-0500
TZNAME:CDT
DTSTART:20270314T080000
END:DAYLIGHT
BEGIN:STANDARD
TZOFFSETFROM:-0500
TZOFFSETTO:-0600
TZNAME:CST
DTSTART:20271107T070000
END:STANDARD
END:VTIMEZONE
BEGIN:VEVENT
DTSTART;TZID=America/Chicago:20260423T190000
DTEND;TZID=America/Chicago:20260424T030000
DTSTAMP:20260421T081412
CREATED:20230817T003231Z
LAST-MODIFIED:20240520T160422Z
UID:10001727-1776970800-1776999600@www.electriccowboy.com
SUMMARY:Thursday | College Night
DESCRIPTION:18+ Always Welcome\n75 Cent Drinks & $1 Beer till 11
URL:https://www.electriccowboy.com/lewisville/event/thursday/2026-04-23/
LOCATION:Electric Cowboy Lewisville\, 1165 S Stemmons Fwy #130\, Lewisville\, TX\, 75067\, United States
CATEGORIES:Weekly
ATTACH;FMTTYPE=image/jpeg:https://www.electriccowboy.com/lewisville/wp-content/uploads/sites/6/2020/11/ECLEW-Thu.jpg
ORGANIZER;CN="Electric Cowboy Lewisville":MAILTO:lewisville@electriccowboy.com
GEO:33.0296259;-96.9949538
X-APPLE-STRUCTURED-LOCATION;VALUE=URI;X-ADDRESS=Electric Cowboy Lewisville 1165 S Stemmons Fwy #130 Lewisville TX 75067 United States;X-APPLE-RADIUS=500;X-TITLE=1165 S Stemmons Fwy #130:geo:-96.9949538,33.0296259
END:VEVENT
BEGIN:VEVENT
DTSTART;TZID=America/Chicago:20260430T190000
DTEND;TZID=America/Chicago:20260501T030000
DTSTAMP:20260421T081412
CREATED:20230817T003231Z
LAST-MODIFIED:20240520T160422Z
UID:10001729-1777575600-1777604400@www.electriccowboy.com
SUMMARY:Thursday | College Night
DESCRIPTION:18+ Always Welcome\n75 Cent Drinks & $1 Beer till 11
URL:https://www.electriccowboy.com/lewisville/event/thursday/2026-04-30/
LOCATION:Electric Cowboy Lewisville\, 1165 S Stemmons Fwy #130\, Lewisville\, TX\, 75067\, United States
CATEGORIES:Weekly
ATTACH;FMTTYPE=image/jpeg:https://www.electriccowboy.com/lewisville/wp-content/uploads/sites/6/2020/11/ECLEW-Thu.jpg
ORGANIZER;CN="Electric Cowboy Lewisville":MAILTO:lewisville@electriccowboy.com
GEO:33.0296259;-96.9949538
X-APPLE-STRUCTURED-LOCATION;VALUE=URI;X-ADDRESS=Electric Cowboy Lewisville 1165 S Stemmons Fwy #130 Lewisville TX 75067 United States;X-APPLE-RADIUS=500;X-TITLE=1165 S Stemmons Fwy #130:geo:-96.9949538,33.0296259
END:VEVENT
BEGIN:VEVENT
DTSTART;TZID=America/Chicago:20260507T190000
DTEND;TZID=America/Chicago:20260508T030000
DTSTAMP:20260421T081412
CREATED:20230817T003231Z
LAST-MODIFIED:20240520T160422Z
UID:10001731-1778180400-1778209200@www.electriccowboy.com
SUMMARY:Thursday | College Night
DESCRIPTION:18+ Always Welcome\n75 Cent Drinks & $1 Beer till 11
URL:https://www.electriccowboy.com/lewisville/event/thursday/2026-05-07/
LOCATION:Electric Cowboy Lewisville\, 1165 S Stemmons Fwy #130\, Lewisville\, TX\, 75067\, United States
CATEGORIES:Weekly
ATTACH;FMTTYPE=image/jpeg:https://www.electriccowboy.com/lewisville/wp-content/uploads/sites/6/2020/11/ECLEW-Thu.jpg
ORGANIZER;CN="Electric Cowboy Lewisville":MAILTO:lewisville@electriccowboy.com
GEO:33.0296259;-96.9949538
X-APPLE-STRUCTURED-LOCATION;VALUE=URI;X-ADDRESS=Electric Cowboy Lewisville 1165 S Stemmons Fwy #130 Lewisville TX 75067 United States;X-APPLE-RADIUS=500;X-TITLE=1165 S Stemmons Fwy #130:geo:-96.9949538,33.0296259
END:VEVENT
BEGIN:VEVENT
DTSTART;TZID=America/Chicago:20260514T190000
DTEND;TZID=America/Chicago:20260515T030000
DTSTAMP:20260421T081412
CREATED:20230817T003231Z
LAST-MODIFIED:20240520T160422Z
UID:10001733-1778785200-1778814000@www.electriccowboy.com
SUMMARY:Thursday | College Night
DESCRIPTION:18+ Always Welcome\n75 Cent Drinks & $1 Beer till 11
URL:https://www.electriccowboy.com/lewisville/event/thursday/2026-05-14/
LOCATION:Electric Cowboy Lewisville\, 1165 S Stemmons Fwy #130\, Lewisville\, TX\, 75067\, United States
CATEGORIES:Weekly
ATTACH;FMTTYPE=image/jpeg:https://www.electriccowboy.com/lewisville/wp-content/uploads/sites/6/2020/11/ECLEW-Thu.jpg
ORGANIZER;CN="Electric Cowboy Lewisville":MAILTO:lewisville@electriccowboy.com
GEO:33.0296259;-96.9949538
X-APPLE-STRUCTURED-LOCATION;VALUE=URI;X-ADDRESS=Electric Cowboy Lewisville 1165 S Stemmons Fwy #130 Lewisville TX 75067 United States;X-APPLE-RADIUS=500;X-TITLE=1165 S Stemmons Fwy #130:geo:-96.9949538,33.0296259
END:VEVENT
BEGIN:VEVENT
DTSTART;TZID=America/Chicago:20260521T190000
DTEND;TZID=America/Chicago:20260522T030000
DTSTAMP:20260421T081412
CREATED:20230817T003231Z
LAST-MODIFIED:20240520T160422Z
UID:10001735-1779390000-1779418800@www.electriccowboy.com
SUMMARY:Thursday | College Night
DESCRIPTION:18+ Always Welcome\n75 Cent Drinks & $1 Beer till 11
URL:https://www.electriccowboy.com/lewisville/event/thursday/2026-05-21/
LOCATION:Electric Cowboy Lewisville\, 1165 S Stemmons Fwy #130\, Lewisville\, TX\, 75067\, United States
CATEGORIES:Weekly
ATTACH;FMTTYPE=image/jpeg:https://www.electriccowboy.com/lewisville/wp-content/uploads/sites/6/2020/11/ECLEW-Thu.jpg
ORGANIZER;CN="Electric Cowboy Lewisville":MAILTO:lewisville@electriccowboy.com
GEO:33.0296259;-96.9949538
X-APPLE-STRUCTURED-LOCATION;VALUE=URI;X-ADDRESS=Electric Cowboy Lewisville 1165 S Stemmons Fwy #130 Lewisville TX 75067 United States;X-APPLE-RADIUS=500;X-TITLE=1165 S Stemmons Fwy #130:geo:-96.9949538,33.0296259
END:VEVENT
BEGIN:VEVENT
DTSTART;TZID=America/Chicago:20260528T190000
DTEND;TZID=America/Chicago:20260529T030000
DTSTAMP:20260421T081412
CREATED:20230817T003231Z
LAST-MODIFIED:20240520T160422Z
UID:10001737-1779994800-1780023600@www.electriccowboy.com
SUMMARY:Thursday | College Night
DESCRIPTION:18+ Always Welcome\n75 Cent Drinks & $1 Beer till 11
URL:https://www.electriccowboy.com/lewisville/event/thursday/2026-05-28/
LOCATION:Electric Cowboy Lewisville\, 1165 S Stemmons Fwy #130\, Lewisville\, TX\, 75067\, United States
CATEGORIES:Weekly
ATTACH;FMTTYPE=image/jpeg:https://www.electriccowboy.com/lewisville/wp-content/uploads/sites/6/2020/11/ECLEW-Thu.jpg
ORGANIZER;CN="Electric Cowboy Lewisville":MAILTO:lewisville@electriccowboy.com
GEO:33.0296259;-96.9949538
X-APPLE-STRUCTURED-LOCATION;VALUE=URI;X-ADDRESS=Electric Cowboy Lewisville 1165 S Stemmons Fwy #130 Lewisville TX 75067 United States;X-APPLE-RADIUS=500;X-TITLE=1165 S Stemmons Fwy #130:geo:-96.9949538,33.0296259
END:VEVENT
BEGIN:VEVENT
DTSTART;TZID=America/Chicago:20260604T190000
DTEND;TZID=America/Chicago:20260605T030000
DTSTAMP:20260421T081412
CREATED:20230817T003231Z
LAST-MODIFIED:20240520T160422Z
UID:10001749-1780599600-1780628400@www.electriccowboy.com
SUMMARY:Thursday | College Night
DESCRIPTION:18+ Always Welcome\n75 Cent Drinks & $1 Beer till 11
URL:https://www.electriccowboy.com/lewisville/event/thursday/2026-06-04/
LOCATION:Electric Cowboy Lewisville\, 1165 S Stemmons Fwy #130\, Lewisville\, TX\, 75067\, United States
CATEGORIES:Weekly
ATTACH;FMTTYPE=image/jpeg:https://www.electriccowboy.com/lewisville/wp-content/uploads/sites/6/2020/11/ECLEW-Thu.jpg
ORGANIZER;CN="Electric Cowboy Lewisville":MAILTO:lewisville@electriccowboy.com
GEO:33.0296259;-96.9949538
X-APPLE-STRUCTURED-LOCATION;VALUE=URI;X-ADDRESS=Electric Cowboy Lewisville 1165 S Stemmons Fwy #130 Lewisville TX 75067 United States;X-APPLE-RADIUS=500;X-TITLE=1165 S Stemmons Fwy #130:geo:-96.9949538,33.0296259
END:VEVENT
BEGIN:VEVENT
DTSTART;TZID=America/Chicago:20260611T190000
DTEND;TZID=America/Chicago:20260612T030000
DTSTAMP:20260421T081412
CREATED:20230817T003231Z
LAST-MODIFIED:20240520T160422Z
UID:10001754-1781204400-1781233200@www.electriccowboy.com
SUMMARY:Thursday | College Night
DESCRIPTION:18+ Always Welcome\n75 Cent Drinks & $1 Beer till 11
URL:https://www.electriccowboy.com/lewisville/event/thursday/2026-06-11/
LOCATION:Electric Cowboy Lewisville\, 1165 S Stemmons Fwy #130\, Lewisville\, TX\, 75067\, United States
CATEGORIES:Weekly
ATTACH;FMTTYPE=image/jpeg:https://www.electriccowboy.com/lewisville/wp-content/uploads/sites/6/2020/11/ECLEW-Thu.jpg
ORGANIZER;CN="Electric Cowboy Lewisville":MAILTO:lewisville@electriccowboy.com
GEO:33.0296259;-96.9949538
X-APPLE-STRUCTURED-LOCATION;VALUE=URI;X-ADDRESS=Electric Cowboy Lewisville 1165 S Stemmons Fwy #130 Lewisville TX 75067 United States;X-APPLE-RADIUS=500;X-TITLE=1165 S Stemmons Fwy #130:geo:-96.9949538,33.0296259
END:VEVENT
BEGIN:VEVENT
DTSTART;TZID=America/Chicago:20260618T190000
DTEND;TZID=America/Chicago:20260619T030000
DTSTAMP:20260421T081412
CREATED:20230817T003231Z
LAST-MODIFIED:20240520T160422Z
UID:10001758-1781809200-1781838000@www.electriccowboy.com
SUMMARY:Thursday | College Night
DESCRIPTION:18+ Always Welcome\n75 Cent Drinks & $1 Beer till 11
URL:https://www.electriccowboy.com/lewisville/event/thursday/2026-06-18/
LOCATION:Electric Cowboy Lewisville\, 1165 S Stemmons Fwy #130\, Lewisville\, TX\, 75067\, United States
CATEGORIES:Weekly
ATTACH;FMTTYPE=image/jpeg:https://www.electriccowboy.com/lewisville/wp-content/uploads/sites/6/2020/11/ECLEW-Thu.jpg
ORGANIZER;CN="Electric Cowboy Lewisville":MAILTO:lewisville@electriccowboy.com
GEO:33.0296259;-96.9949538
X-APPLE-STRUCTURED-LOCATION;VALUE=URI;X-ADDRESS=Electric Cowboy Lewisville 1165 S Stemmons Fwy #130 Lewisville TX 75067 United States;X-APPLE-RADIUS=500;X-TITLE=1165 S Stemmons Fwy #130:geo:-96.9949538,33.0296259
END:VEVENT
BEGIN:VEVENT
DTSTART;TZID=America/Chicago:20260625T190000
DTEND;TZID=America/Chicago:20260626T030000
DTSTAMP:20260421T081412
CREATED:20230817T003231Z
LAST-MODIFIED:20240520T160422Z
UID:10001762-1782414000-1782442800@www.electriccowboy.com
SUMMARY:Thursday | College Night
DESCRIPTION:18+ Always Welcome\n75 Cent Drinks & $1 Beer till 11
URL:https://www.electriccowboy.com/lewisville/event/thursday/2026-06-25/
LOCATION:Electric Cowboy Lewisville\, 1165 S Stemmons Fwy #130\, Lewisville\, TX\, 75067\, United States
CATEGORIES:Weekly
ATTACH;FMTTYPE=image/jpeg:https://www.electriccowboy.com/lewisville/wp-content/uploads/sites/6/2020/11/ECLEW-Thu.jpg
ORGANIZER;CN="Electric Cowboy Lewisville":MAILTO:lewisville@electriccowboy.com
GEO:33.0296259;-96.9949538
X-APPLE-STRUCTURED-LOCATION;VALUE=URI;X-ADDRESS=Electric Cowboy Lewisville 1165 S Stemmons Fwy #130 Lewisville TX 75067 United States;X-APPLE-RADIUS=500;X-TITLE=1165 S Stemmons Fwy #130:geo:-96.9949538,33.0296259
END:VEVENT
BEGIN:VEVENT
DTSTART;TZID=America/Chicago:20260702T190000
DTEND;TZID=America/Chicago:20260703T030000
DTSTAMP:20260421T081412
CREATED:20230817T003231Z
LAST-MODIFIED:20240520T160422Z
UID:10001766-1783018800-1783047600@www.electriccowboy.com
SUMMARY:Thursday | College Night
DESCRIPTION:18+ Always Welcome\n75 Cent Drinks & $1 Beer till 11
URL:https://www.electriccowboy.com/lewisville/event/thursday/2026-07-02/
LOCATION:Electric Cowboy Lewisville\, 1165 S Stemmons Fwy #130\, Lewisville\, TX\, 75067\, United States
CATEGORIES:Weekly
ATTACH;FMTTYPE=image/jpeg:https://www.electriccowboy.com/lewisville/wp-content/uploads/sites/6/2020/11/ECLEW-Thu.jpg
ORGANIZER;CN="Electric Cowboy Lewisville":MAILTO:lewisville@electriccowboy.com
GEO:33.0296259;-96.9949538
X-APPLE-STRUCTURED-LOCATION;VALUE=URI;X-ADDRESS=Electric Cowboy Lewisville 1165 S Stemmons Fwy #130 Lewisville TX 75067 United States;X-APPLE-RADIUS=500;X-TITLE=1165 S Stemmons Fwy #130:geo:-96.9949538,33.0296259
END:VEVENT
BEGIN:VEVENT
DTSTART;TZID=America/Chicago:20260709T190000
DTEND;TZID=America/Chicago:20260710T030000
DTSTAMP:20260421T081412
CREATED:20230817T003231Z
LAST-MODIFIED:20240520T160422Z
UID:10001770-1783623600-1783652400@www.electriccowboy.com
SUMMARY:Thursday | College Night
DESCRIPTION:18+ Always Welcome\n75 Cent Drinks & $1 Beer till 11
URL:https://www.electriccowboy.com/lewisville/event/thursday/2026-07-09/
LOCATION:Electric Cowboy Lewisville\, 1165 S Stemmons Fwy #130\, Lewisville\, TX\, 75067\, United States
CATEGORIES:Weekly
ATTACH;FMTTYPE=image/jpeg:https://www.electriccowboy.com/lewisville/wp-content/uploads/sites/6/2020/11/ECLEW-Thu.jpg
ORGANIZER;CN="Electric Cowboy Lewisville":MAILTO:lewisville@electriccowboy.com
GEO:33.0296259;-96.9949538
X-APPLE-STRUCTURED-LOCATION;VALUE=URI;X-ADDRESS=Electric Cowboy Lewisville 1165 S Stemmons Fwy #130 Lewisville TX 75067 United States;X-APPLE-RADIUS=500;X-TITLE=1165 S Stemmons Fwy #130:geo:-96.9949538,33.0296259
END:VEVENT
BEGIN:VEVENT
DTSTART;TZID=America/Chicago:20260716T190000
DTEND;TZID=America/Chicago:20260717T030000
DTSTAMP:20260421T081412
CREATED:20230817T003231Z
LAST-MODIFIED:20240520T160422Z
UID:10001774-1784228400-1784257200@www.electriccowboy.com
SUMMARY:Thursday | College Night
DESCRIPTION:18+ Always Welcome\n75 Cent Drinks & $1 Beer till 11
URL:https://www.electriccowboy.com/lewisville/event/thursday/2026-07-16/
LOCATION:Electric Cowboy Lewisville\, 1165 S Stemmons Fwy #130\, Lewisville\, TX\, 75067\, United States
CATEGORIES:Weekly
ATTACH;FMTTYPE=image/jpeg:https://www.electriccowboy.com/lewisville/wp-content/uploads/sites/6/2020/11/ECLEW-Thu.jpg
ORGANIZER;CN="Electric Cowboy Lewisville":MAILTO:lewisville@electriccowboy.com
GEO:33.0296259;-96.9949538
X-APPLE-STRUCTURED-LOCATION;VALUE=URI;X-ADDRESS=Electric Cowboy Lewisville 1165 S Stemmons Fwy #130 Lewisville TX 75067 United States;X-APPLE-RADIUS=500;X-TITLE=1165 S Stemmons Fwy #130:geo:-96.9949538,33.0296259
END:VEVENT
END:VCALENDAR